Workbook
Name Auswählen: 'Rechnung volle Erziehung'!$B$2
Name Empfänger: 'Rechnung volle Erziehung'!$B$2
Name Leistung_wählen: 'Rechnung volle Erziehung'!$C$19
Name Leistungsmonat_auswählen: 'Betreuungsst. Additivleistung'!$D$3
Name Monat_auswählen: 'Betreuungsst. Additivleistung'!$D$3
Name Sozialpädagogische_WG: 'Rechnung volle Erziehung'!$C$19
Name Verrechnungsmonat_auswählen: 'Betreuungsst. Additivleistung'!$D$3

Sheet Rechnung volle Erziehung
B2: Bezirkshauptmannschaft Innsbruck | F2: Name des Trägers
B3: =VLOOKUP(Auswählen,Listen!B2:D11,2,FALSE) -> Gilmstraße 2, 6020 Innsbruck | F3: Anschrift
B4: =VLOOKUP(Auswählen,Listen!B2:D11,3,FALSE) -> ATU 36970505
B8: Abrechnung zur vollen Erziehung gemäß § 42 TKJHG
B10: Rechnungsnummer
B11: Rechnungsdatum
B12: Umsatzsteueridentifikationsnummer
B14: KlientInnendaten
B15: Name Minderjährige/r oder junger Erwachsene/r und Aktenzahl JUWIS | G15: Geburtsdatum
B19: Leistung | C19: Leistung auswählen
B20: Name der Einrichtung
D22: Abrechnungszeitraum
D23: von | E23: bis
B24: Zeitraum Normtagsatz | F24: <- Bitte Zeitraum erfassen.
B25: Zeitraum Überbelegung | F25: <- Bitte Zeitraum erfassen.
B28: Normtagsatz | F28: Tage | G28: Tagsatz | H28: Summe
B29: Anwesenheitstage | F29: =COUNT(Anwesenheitsliste!C7:C37) -> 0 | G29: =IFERROR(VLOOKUP(Leistung_wählen,Listen!B15:C24,2,FALSE),0) -> 0 | H29: =IF((F29>0),(G29*F29),0) -> 0
B30: Abwesenheitstage (Achtung: verpflichtend ab dem 3. Tag) | F30: =COUNT(Anwesenheitsliste!D7:D37) -> 0 | G30: =IFERROR(VLOOKUP(Leistung_wählen,Listen!B15:D24,3,FALSE),0) -> 0 | H30: =IF((F30>0),(G30*F30),0) -> 0
F31: =IF((E24-D24+1)=(F29+F30),"",IF(ISBLANK(D24),"",IF(ISBLANK(E24),"","Stimmt nicht mit Abrechnungszeitraum überein")))
B32: Überbelegung | F32: Tage | G32: Tagsatz | H32: Summe
B33: Anwesenheitstage | F33: =COUNT(Anwesenheitsliste!F7:F37) -> 0 | G33: =IFERROR(VLOOKUP(Leistung_wählen,Listen!B15:Z24,8,FALSE),0) -> 0 | H33: =IF((F33>0),(G33*F33),0) -> 0
B34: Abwesenheitstage (Achtung: verpflichtend ab dem 3. Tag) | F34: =COUNT(Anwesenheitsliste!G7:G37) -> 0 | G34: =IFERROR(VLOOKUP(Leistung_wählen,Listen!B15:Z24,9,FALSE),0) -> 0 | H34: =IF((F34>0),(G34*F34),0) -> 0
F35: =IF((E25-D25+1)=(F33+F34),"",IF(ISBLANK(D25),"",IF(ISBLANK(E25),"","Stimmt nicht mit Abrechnungszeitraum überein")))
B36: Zwischensumme Nettobetrag | H36: =H29+H30+H33+H34 -> 0
B38: Additivleistungen | F38: nein
B40: Additivleistung auswählen | F40: Tage | G40: Satz | H40: Summe
G41: =IFERROR(VLOOKUP(B40,Listen!B49:C55,2,FALSE),0) -> 0 | H41: =IF((F41>0),(F41*G41),0) -> 0
B43: Weitere Additivleistung auswählen | F43: Stunden | G43: Satz | H43: Summe
G44: =VLOOKUP(B43,Listen!B60:C61,2,FALSE) -> 0 | H44: =IF((F44>0),(F44*G44),0) -> 0
B46: Weitere Additivleistung auswählen | G46: Betrag | H46: Summe
B47: =IF(G47>0,"Bitte nur anführen, wenn gleicher Steuersatz, ansonsten mit Verwendungsnachweis gesondert in Rechnung stellen.","") | G47: 0 | H47: =G47 -> 0
B49: Zwischensumme Nettobetrag: | H49: =H36+COUNTIF(F38,"ja")*H41+COUNTIF(F38,"ja")*H47+COUNTIF(F38,"ja")*H44 -> 0
B51: Umsatzsteuer/Mehrwertsteuer: | F51: Steuersatz auswählen | H51: =IFERROR(ROUND(H49*F51,2),0) -> 0
B52: =IF(F51>0,"","Bitte Hinweis auf Steuerbefreiung ergänzen")
B54: Lebenshaltungskosten (ohne Steuer) | F54: nein | H54: =IFERROR(VLOOKUP(Leistung_wählen,Listen!B15:Z24,11,FALSE),0) -> 0
B55: Abzüge auf Grund Eigeneinkommen: | H55: 0
B56: In Rechnung gestellt werden können: | H56: =+H54-H55 -> 0
B58: Summe Bruttobetrag | H58: =H49+H51+COUNTIF(F54,"ja")*H56 -> 0
B61: ="Mit der Bitte um Überweisung von "&TEXT(H58,"€ #.##0,00")&" auf nachfolgend angeführter Bankverbindung." -> Mit der Bitte um Überweisung von € 0,00 auf nachfolgend angeführter Bankverbindung.
B64: Name des Trägers
...

Sheet Anwesenheitsliste
A2: Minderjährige/r
A3: Monat | D3: Monat auswählen
C5: Normtagsatz | F5: Überbelegung
A6: Tag | C6: Anwesend* | D6: Abwesend* | F6: Anwesend* | G6: Abwesend* | I6: Grund der Abwesenheit
A7: 1
A8: 2
A9: 3
A10: 4
A11: 5
A12: 6
A13: 7
A14: 8
A15: 9
A16: 10
A17: 11
A18: 12
... A37: 31
A39: *Verrechenbare Tage - Anwesenheit / Abwesenheit bitte pro zutreffendem Tag mit Wert 1 befüllen
A40: Abwesenheit ab mehr als 2 Tagen ist für alle betreffenden Tage in der File zu erfassen, sodass eine korrekte Anzahl an verrechenbaren Tagen ausgewiesen wird. Der Grund der Abwesenheit ist einzutragen

Sheet Betreuungsst. Additivleistung
A2: Minderjährige/r
A3: Monat | D3: Monat auswählen
A4: Leistung | D4: Additivleistung auswählen
A7: Tag | C7: von | D7: bis | E7: tatsächlich geleistete Betreuungsstunden | F7: nicht geleistete Betreuungsstunden | G7: Begründung für nicht geleistete Betreunngsstunden (bitte genauen Grund zB Urlaub - von wem?-, Krankenstand, etc. angeben) | H7: Betreuer*in
A8: 1
A9: 2
A10: 3
A11: 4
A12: 5
A13: 6
A14: 7
A15: 8
A16: 9
A17: 10
A18: 11
A19: 12
... A38: 31
C40: Summe | E40: =SUM(E8:E38) -> 0 | F40: =SUM(F8:F38) -> 0

Sheet Listen
A1: LFNR | B1: Politischer Bezirk | C1: Anschrift | D1: ATU
A2: 1 | B2: Empfänger auswählen | C2: Empfänger Anschrift | D2: Empfänger ATU Nummer
A3: 1 | B3: Bezirkshauptmannschaft Innsbruck | C3: Gilmstraße 2, 6020 Innsbruck | D3: ATU 36970505
A4: 2 | B4: Stadtmagistrat Innsbruck | C4: Ing.-Etzel-Straße 5, 6020 Innsbruck | D4: ATU 36970505
A5: 3 | B5: Bezirkshauptmannschaft Imst | C5: Stadtplatz 1, 6460 Imst | D5: ATU 36970505
A6: 4 | B6: Bezirkshauptmannschaft Kitzbühel | C6: Josef-Herold-Straße 10, 6370 Kitzbühel | D6: ATU 36970505
A7: 5 | B7: Bezirkshauptmannschaft Kufstein | C7: Bozner Platz 1-2, 6330 Kufstein | D7: ATU 36970505
A8: 6 | B8: Bezirkshauptmannschaft Landeck | C8: Innstraße 5, 6500 Landeck | D8: ATU 36970505
A9: 7 | B9: Bezirkshauptmannschaft Lienz | C9: Dolomitenstraße 3, 9900 Lienz | D9: ATU 36970505
A10: 8 | B10: Bezirkshauptmannschaft Reutte | C10: Obermarkt 7, 6600 Reutte | D10: ATU 36970505
A11: 9 | B11: Bezirkshauptmannschaft Schwaz | C11: Franz-Josef-Straße 25, 6130 Schwaz | D11: ATU 36970505
B13: 1 | C13: 2 | D13: 3 | E13: 4 | F13: 5 | G13: 6 | H13: 7 | I13: 8 | J13: 9 | K13: 10 | L13: 11 | M13: 12 | N13: 13
B14: Leistung auswählen | C14: Normtagsatz | D14: Platzhaltegebühr | I14: Überbelegung | J14: Überbelegung PHG | L14: Lebenshaltungskosten | M14: Fachleistungsstunden | N14: Besuchsbegleitung
A15: 1 | B15: Sozialpädagogische WG | C15: 261.1 | D15: =+C15*0.8 -> 208.88 | I15: 39.2 | J15: =+I15*0.8 -> 31.36 | L15: 0 | M15: 49.7 | N15: 49.7
A16: 2 | B16: Sozialpädagogisches Innenwohnen | C16: 168.1 | D16: =+C16*0.8 -> 134.48 | I16: 0 | J16: 0 | L16: 663 | M16: 48.7 | N16: 0
A17: 3 | B17: Sozialpädagogisches Außenwohnen | C17: 101.1 | D17: =+C17*0.8 -> 80.88 | I17: 0 | J17: 0 | L17: =+L16 -> 663 | M17: 48.7 | N17: 0
A18: 4 | B18: Sozialpädagogisch-Therapeutische WG | C18: 339 | D18: =+C18*0.8 -> 271.2 | I18: 50.9 | J18: =+I18*0.8 -> 40.72 | L18: 0 | M18: 48.7 | N18: =+N15 -> 49.7
A19: 5 | B19: Sozialpädagogisch-Therapeutisches Innenwohnen | C19: 184.6 | D19: =+C19*0.8 -> 147.68 | I19: 0 | J19: 0 | L19: =+L16 -> 663 | M19: 48.7 | N19: 0
A20: 6 | B20: Sozialpädagogisch-Therapeutische Außenwohnen | C20: =+C17 -> 101.1 | D20: =+C20*0.8 -> 80.88 | I20: 0 | J20: 0 | L20: =+L16 -> 663 | M20: 48.7
A21: 7 | B21: Intensiv betreute, sozialpädagogische Klein–Gruppen-WG | C21: 551.7 | D21: =+C21*0.8 -> 441.36 | I21: 82.8 | J21: =+I21*0.8 -> 66.24 | L21: 0 | M21: 0 | N21: =+N18 -> 49.7
A22: 8 | B22: BEWO Basis | C22: 95 | D22: =+C22*0.8 -> 76 | I22: 0 | J22: 0 | L22: =+L16 -> 663 | M22: 48.7 | N22: 0
A23: 10 | B23: BEWO Standard | C23: 147.8 | D23: =+C23*0.8 -> 118.24 | I23: 0 | J23: 0 | L23: =+L16 -> 663 | M23: 48.7 | N23: =+N21 -> 49.7
A24: 11 | B24: BEWO SAFE | C24: 543.5 | D24: =+C24*0.8 -> 434.8 | I24: 81.5 | J24: =+I24*0.8 -> 65.2 | L24: =+L16 -> 663 | M24: 48.7 | N24: 0
D27: Steuersatz auswählen
D28: 0
D29: 0.1
D30: 0.13
D31: 0.2
D34: Frage nach erhöhtem Bedarf oder Lebenshaltungskosten
B35: Bitte auswählen | D35: Bitte auswählen
B36: Zusätzliche Fachleistungsstunden | D36: nein
B37: Besuchsbegleitung | D37: ja
B48: Additivleistung auswählen | C48: netto pro Tag und Platz
B49: WG Zusatzmodul 1 | C49: 49.4
B50: WG Zusatzmodul 2 | C50: 98.7
B51: WG Zusatzmodul 2 - Kleinkind | C51: 98.7
B52: BEWO Modul intensiv 6 | C52: 69.2
B53: BEWO Modul intensiv 12 | C53: 108.1
B54: Besuchsbegleitung | C54: 49.7
B60: Weitere Additivleistung auswählen
...
